BEGIN:VCALENDAR
VERSION:2.0
PRODID:-//Fundación Capiunt - ECPv6.15.20//NONSGML v1.0//EN
CALSCALE:GREGORIAN
METHOD:PUBLISH
X-WR-CALNAME:Fundación Capiunt
X-ORIGINAL-URL:https://fundacioncapiunt.org
X-WR-CALDESC:Eventos para Fundación Capiunt
REFRESH-INTERVAL;VALUE=DURATION:PT1H
X-Robots-Tag:noindex
X-PUBLISHED-TTL:PT1H
BEGIN:VTIMEZONE
TZID:UTC
BEGIN:STANDARD
TZOFFSETFROM:+0000
TZOFFSETTO:+0000
TZNAME:UTC
DTSTART:20250101T000000
END:STANDARD
END:VTIMEZONE
BEGIN:VEVENT
DTSTART;TZID=UTC:20260304T173000
DTEND;TZID=UTC:20260304T193000
DTSTAMP:20260422T084921
CREATED:20260116T110308Z
LAST-MODIFIED:20260116T110308Z
UID:1568-1772645400-1772652600@fundacioncapiunt.org
SUMMARY:Voluntariado hospitalario
DESCRIPTION:Voluntariado hospitalario de acompañamiento a personas mayores \nLa Fundación Capiunt desarrolla junto a voluntariado Caixabank un programa de voluntariado hospitalario en el que personas voluntarias acuden al hospital para realizar acompañamiento humano y apoyo emocional a personas mayores ingresadas. \nEl objetivo es reducir la soledad durante la hospitalización y colaborar con el personal sanitario en la humanización de la atención hospitalaria. A través de este voluntariado\, las personas mayores reciben escucha activa\, compañía y cercanía en un momento especialmente vulnerables.
URL:https://fundacioncapiunt.org/event/voluntariado-hospitalario-32
END:VEVENT
BEGIN:VEVENT
DTSTART;TZID=UTC:20260311T173000
DTEND;TZID=UTC:20260311T193000
DTSTAMP:20260422T084921
CREATED:20260116T110337Z
LAST-MODIFIED:20260116T110337Z
UID:1570-1773250200-1773257400@fundacioncapiunt.org
SUMMARY:Voluntariado hospitalario
DESCRIPTION:Voluntariado hospitalario de acompañamiento a personas mayores \nLa Fundación Capiunt desarrolla junto a voluntariado Caixabank un programa de voluntariado hospitalario en el que personas voluntarias acuden al hospital para realizar acompañamiento humano y apoyo emocional a personas mayores ingresadas. \nEl objetivo es reducir la soledad durante la hospitalización y colaborar con el personal sanitario en la humanización de la atención hospitalaria. A través de este voluntariado\, las personas mayores reciben escucha activa\, compañía y cercanía en un momento especialmente vulnerables.
URL:https://fundacioncapiunt.org/event/voluntariado-hospitalario-33
END:VEVENT
BEGIN:VEVENT
DTSTART;TZID=UTC:20260318T173000
DTEND;TZID=UTC:20260318T193000
DTSTAMP:20260422T084921
CREATED:20260116T110406Z
LAST-MODIFIED:20260116T110406Z
UID:1572-1773855000-1773862200@fundacioncapiunt.org
SUMMARY:Voluntariado hospitalario
DESCRIPTION:Voluntariado hospitalario de acompañamiento a personas mayores \nLa Fundación Capiunt desarrolla junto a voluntariado Caixabank un programa de voluntariado hospitalario en el que personas voluntarias acuden al hospital para realizar acompañamiento humano y apoyo emocional a personas mayores ingresadas. \nEl objetivo es reducir la soledad durante la hospitalización y colaborar con el personal sanitario en la humanización de la atención hospitalaria. A través de este voluntariado\, las personas mayores reciben escucha activa\, compañía y cercanía en un momento especialmente vulnerables.
URL:https://fundacioncapiunt.org/event/voluntariado-hospitalario-34
END:VEVENT
BEGIN:VEVENT
DTSTART;TZID=UTC:20260320T093000
DTEND;TZID=UTC:20260320T170000
DTSTAMP:20260422T084921
CREATED:20260323T162155Z
LAST-MODIFIED:20260323T162155Z
UID:1675-1773999000-1774026000@fundacioncapiunt.org
SUMMARY:Visita guiada a la catedral y palacio episcopal de Tarazona
DESCRIPTION:El viernes\, 20 marzo visitaremos Tarazona con visita guiada a la Catedral y Palacio Episcopal. \nHora de salida: 9:30 \nVisita guiada: 11:00-13:00 \nComida en restaurante: 13:30 \nPaseo por el ayuntamiento y casas colgantes.
URL:https://fundacioncapiunt.org/event/visita-guiada-a-la-catedral-y-palacio-episcopal-de-tarazona
END:VEVENT
BEGIN:VEVENT
DTSTART;TZID=UTC:20260325T173000
DTEND;TZID=UTC:20260325T193000
DTSTAMP:20260422T084921
CREATED:20260116T110432Z
LAST-MODIFIED:20260216T141807Z
UID:1574-1774459800-1774467000@fundacioncapiunt.org
SUMMARY:Voluntariado hospitalario
DESCRIPTION:Voluntariado hospitalario de acompañamiento a personas mayores \nLa Fundación Capiunt desarrolla junto a voluntariado Caixabank un programa de voluntariado hospitalario en el que personas voluntarias acuden al hospital para realizar acompañamiento humano y apoyo emocional a personas mayores ingresadas. \nEl objetivo es reducir la soledad durante la hospitalización y colaborar con el personal sanitario en la humanización de la atención hospitalaria. A través de este voluntariado\, las personas mayores reciben escucha activa\, compañía y cercanía en un momento especialmente vulnerables.
URL:https://fundacioncapiunt.org/event/voluntariado-hospitalario-copy-2
END:VEVENT
BEGIN:VEVENT
DTSTART;TZID=UTC:20260401T173000
DTEND;TZID=UTC:20260401T193000
DTSTAMP:20260422T084921
CREATED:20260216T141609Z
LAST-MODIFIED:20260216T141638Z
UID:1617-1775064600-1775071800@fundacioncapiunt.org
SUMMARY:Voluntariado hospitalario
DESCRIPTION:Voluntariado hospitalario de acompañamiento a personas mayores \nLa Fundación Capiunt desarrolla junto a voluntariado Caixabank un programa de voluntariado hospitalario en el que personas voluntarias acuden al hospital para realizar acompañamiento humano y apoyo emocional a personas mayores ingresadas. \nEl objetivo es reducir la soledad durante la hospitalización y colaborar con el personal sanitario en la humanización de la atención hospitalaria. A través de este voluntariado\, las personas mayores reciben escucha activa\, compañía y cercanía en un momento especialmente vulnerables.
URL:https://fundacioncapiunt.org/event/voluntariado-hospitalario-35
END:VEVENT
BEGIN:VEVENT
DTSTART;TZID=UTC:20260403T103000
DTEND;TZID=UTC:20260403T123000
DTSTAMP:20260422T084921
CREATED:20260216T141443Z
LAST-MODIFIED:20260216T141443Z
UID:1614-1775212200-1775219400@fundacioncapiunt.org
SUMMARY:Viernes Santo. Visita guiada a los "Monumentos" para acompañar a Cristo en su Pasión
DESCRIPTION:El Viernes Santo\, la Fundación Capiunt nos llevará a vivir\, junto a los cofrades\, una tradición milenaria\, con una visita guiada a los «Monumentos» para acompañar a Cristo en su Pasión. \nSe hará un recorrido por 7 Iglesias de la ciudad: La Seo\,  Basílica del Pilar\, Iglesia de la Sta. Cruz\, Iglesia de San Gil\, Iglesia del Seminario de San Carlos\,  Iglesia de la Magdalena\,  Convento de las Canonesas del Sto Sepulcro-Iglesia de San Nicolás \nEn cada una de ellas viviremos\, con las explicaciones de la guía\, el sufrimiento que tuvo Cristo en su recorrido por el Huerto de Getsemaní\, las casas de Anás\, Caifás\, Herodes\, Pilatos\, en el Monte Calvario y del Santo Sepulcro. Entraremos en las Iglesias con mucho respeto para velar durante unos segundos al Señor en su Monumento. \nInformación para conocer más detalles: info@fundacioncapiunt.org \nFormaremos el grupo en  La Seo en la puerta de entrada a las 10:25h. Los participantes tienen que haberse inscrito antes. Los donativos que se recojan se destinarán a los proyectos sociales de la Fundación Capiunt
URL:https://fundacioncapiunt.org/event/viernes-santo-visita-guiada-a-los-monumentos-para-acompanar-a-cristo-en-su-pasion-2
ATTACH;FMTTYPE=image/jpeg:https://fundacioncapiunt.org/wp-content/uploads/2026/02/Semana-Santa-abril-2026.jpg
END:VEVENT
BEGIN:VEVENT
DTSTART;TZID=UTC:20260408T173000
DTEND;TZID=UTC:20260408T193000
DTSTAMP:20260422T084921
CREATED:20260216T141708Z
LAST-MODIFIED:20260216T141708Z
UID:1619-1775669400-1775676600@fundacioncapiunt.org
SUMMARY:Voluntariado hospitalario
DESCRIPTION:Voluntariado hospitalario de acompañamiento a personas mayores \nLa Fundación Capiunt desarrolla junto a voluntariado Caixabank un programa de voluntariado hospitalario en el que personas voluntarias acuden al hospital para realizar acompañamiento humano y apoyo emocional a personas mayores ingresadas. \nEl objetivo es reducir la soledad durante la hospitalización y colaborar con el personal sanitario en la humanización de la atención hospitalaria. A través de este voluntariado\, las personas mayores reciben escucha activa\, compañía y cercanía en un momento especialmente vulnerables.
URL:https://fundacioncapiunt.org/event/voluntariado-hospitalario-36
END:VEVENT
BEGIN:VEVENT
DTSTART;TZID=UTC:20260415T173000
DTEND;TZID=UTC:20260415T193000
DTSTAMP:20260422T084921
CREATED:20260216T141736Z
LAST-MODIFIED:20260216T141747Z
UID:1621-1776274200-1776281400@fundacioncapiunt.org
SUMMARY:Voluntariado hospitalario
DESCRIPTION:Voluntariado hospitalario de acompañamiento a personas mayores \nLa Fundación Capiunt desarrolla junto a voluntariado Caixabank un programa de voluntariado hospitalario en el que personas voluntarias acuden al hospital para realizar acompañamiento humano y apoyo emocional a personas mayores ingresadas. \nEl objetivo es reducir la soledad durante la hospitalización y colaborar con el personal sanitario en la humanización de la atención hospitalaria. A través de este voluntariado\, las personas mayores reciben escucha activa\, compañía y cercanía en un momento especialmente vulnerables.
URL:https://fundacioncapiunt.org/event/voluntariado-hospitalario-copy-3
END:VEVENT
BEGIN:VEVENT
DTSTART;TZID=UTC:20260422T173000
DTEND;TZID=UTC:20260422T193000
DTSTAMP:20260422T084921
CREATED:20260216T141829Z
LAST-MODIFIED:20260216T141845Z
UID:1625-1776879000-1776886200@fundacioncapiunt.org
SUMMARY:Voluntariado hospitalario
DESCRIPTION:Voluntariado hospitalario de acompañamiento a personas mayores \nLa Fundación Capiunt desarrolla junto a voluntariado Caixabank un programa de voluntariado hospitalario en el que personas voluntarias acuden al hospital para realizar acompañamiento humano y apoyo emocional a personas mayores ingresadas. \nEl objetivo es reducir la soledad durante la hospitalización y colaborar con el personal sanitario en la humanización de la atención hospitalaria. A través de este voluntariado\, las personas mayores reciben escucha activa\, compañía y cercanía en un momento especialmente vulnerables.
URL:https://fundacioncapiunt.org/event/voluntariado-hospitalario-copy-4
END:VEVENT
BEGIN:VEVENT
DTSTART;TZID=UTC:20260429T173000
DTEND;TZID=UTC:20260429T193000
DTSTAMP:20260422T084921
CREATED:20260216T141917Z
LAST-MODIFIED:20260216T141917Z
UID:1628-1777483800-1777491000@fundacioncapiunt.org
SUMMARY:Voluntariado hospitalario
DESCRIPTION:Voluntariado hospitalario de acompañamiento a personas mayores \nLa Fundación Capiunt desarrolla junto a voluntariado Caixabank un programa de voluntariado hospitalario en el que personas voluntarias acuden al hospital para realizar acompañamiento humano y apoyo emocional a personas mayores ingresadas. \nEl objetivo es reducir la soledad durante la hospitalización y colaborar con el personal sanitario en la humanización de la atención hospitalaria. A través de este voluntariado\, las personas mayores reciben escucha activa\, compañía y cercanía en un momento especialmente vulnerables.
URL:https://fundacioncapiunt.org/event/voluntariado-hospitalario-37
END:VEVENT
BEGIN:VEVENT
DTSTART;TZID=UTC:20260507T103000
DTEND;TZID=UTC:20260507T120000
DTSTAMP:20260422T084921
CREATED:20260420T085102Z
LAST-MODIFIED:20260420T085102Z
UID:1680-1778149800-1778155200@fundacioncapiunt.org
SUMMARY:VISITA GUIADA AL MONASTERIO DE LAS CANONESAS
DESCRIPTION:La Fundación Capiunt organiza una nueva actividad dentro de sus encuentros culturales sénior con una visita guiada al Monasterio de las Canonesas del Santo Sepulcro. \nEste monasterio\, de origen mudéjar y fundado en el siglo XIV\, constituye uno de los espacios históricos más singulares de la ciudad. Durante la visita\, los participantes podrán conocer la historia de la comunidad de canonesas\, así como descubrir los elementos más destacados de su patrimonio artístico y arquitectónico. \nEl recorrido incluye espacios como la iglesia del Santo Sepulcro\, el claustro\, la sala capitular y el refectorio\, permitiendo una aproximación completa a la vida y evolución de este enclave histórico. \nSe trata de una actividad cultural pensada para disfrutar en grupo\, compartir conocimientos y seguir descubriendo el patrimonio de Zaragoza. \nEl Aforo es limitado. \nDETALLES DEL EVENTO\n📅 Fecha: Jueves\, 7 de mayo de 2026🕥 Hora: 10:30 h (el grupo se formará 5 minutos antes)⏱️ Duración: 1 hora y 15 minutos📌 Lugar: Plaza de San Nicolás\, Zaragoza \nINSCRIPCIÓN\n📧 info@fundacioncapiunt.org📞 679 649 741
URL:https://fundacioncapiunt.org/event/visita-guiada-al-monasterio-de-las-canonesas-2
ATTACH;FMTTYPE=image/jpeg:https://fundacioncapiunt.org/wp-content/uploads/2026/04/Visita-guiada-Monasterio-de-las-Canonessas-7-mayo-2026.jpg
END:VEVENT
END:VCALENDAR